BEGIN:VCALENDAR
PRODID:-//eluceo/ical//2.0/EN
VERSION:2.0
CALSCALE:GREGORIAN
BEGIN:VEVENT
UID:c36be5f18e70fbba31adc982a9fd6ec7
DTSTAMP:20260425T143833Z
SUMMARY:Klimatage Buttisholz
DESCRIPTION:Der Klimatag in Buttisholz steht unter dem Motto "Total lokal. 
 Sei\ndabei!" Es gibt Besichtigungen\, Vorträge\, Kleidertausch\, Verpfleg
 ung\,\nMosten\, Gespräche und einen Marktstand.\n
DTSTART:20240920T160000Z
DTEND:20240921T193000Z
LOCATION:Mülacher 3 \, 6018 Buttisholz
GEO:47.115482;8.097903
X-APPLE-STRUCTURED-LOCATION;VALUE=URI;X-ADDRESS=Mülacher 3 \, 6018 Buttish
 olz;X-APPLE-RADIUS=49;X-TITLE=:geo:47.115482,8.097903
END:VEVENT
END:VCALENDAR
