BEGIN:VCALENDAR
PRODID:-//eluceo/ical//2.0/EN
VERSION:2.0
CALSCALE:GREGORIAN
BEGIN:VEVENT
UID:04722aa88e2fa343af9e57c0ba325ef1
DTSTAMP:20260425T143701Z
SUMMARY:Klima-Kino 
DESCRIPTION:Klimakino in der Hofschule Luzern.\nWir zeigen euch die Doku «
 Einsatz für mehr Biodiversität. Die\nSchweiz gärtnert für die Artenvie
 lfalt» von Michèle Sauvain.\nApéro im Anschluss\n
DTSTART:20240907T180000Z
DTEND:20240907T200000Z
END:VEVENT
END:VCALENDAR
