BEGIN:VCALENDAR
PRODID:-//eluceo/ical//2.0/EN
VERSION:2.0
CALSCALE:GREGORIAN
BEGIN:VEVENT
UID:9f8cb3b72704447bcf1116b95fc35540
DTSTAMP:20260425T143518Z
SUMMARY:Webinar: Nachhaltige Mobilität im Unternehmen
DESCRIPTION:Erfahren Sie\, wie Sie die Mobilität Ihrer Mitarbeitenden nach
 haltiger\nund gesünder gestalten können.\n\nInhalt:\n- Grundlagen für e
 in betriebliches Mobilitätskonzept\n- Förderprogramm "clever unterwegs"\
 n- Umsetzung nachhaltige öV-Mobilitätslösungen\n
DTSTART:20240919T090000Z
DTEND:20240919T093000Z
END:VEVENT
END:VCALENDAR
