BEGIN:VCALENDAR
PRODID:-//eluceo/ical//2.0/EN
VERSION:2.0
CALSCALE:GREGORIAN
BEGIN:VEVENT
UID:ed62955a70c5e2ec0caedb7dcb1024d1
DTSTAMP:20260425T160916Z
SUMMARY:Richard Vollenweider Lectures Oktober 2024
DESCRIPTION:Mittagsvortrag: CO2-Kompensation. Lohnt sich das?\n
DTSTART:20241017T103000Z
DTEND:20241017T111500Z
LOCATION:
GEO:47.054509;8.306188
X-APPLE-STRUCTURED-LOCATION;VALUE=URI;X-ADDRESS=;X-APPLE-RADIUS=49;X-TITLE=
 :geo:47.054509,8.306188
END:VEVENT
END:VCALENDAR
