BEGIN:VCALENDAR
PRODID:-//eluceo/ical//2.0/EN
VERSION:2.0
CALSCALE:GREGORIAN
BEGIN:VEVENT
UID:3ac17a9322d87864d5cd15af0310f6b8
DTSTAMP:20260425T143635Z
SUMMARY:Richard Vollenweider Lectures August 2024
DESCRIPTION:Mittagsvortrag: Klimawandel und Wetterextreme\n
DTSTART:20240829T103000Z
DTEND:20240829T111500Z
LOCATION:
GEO:47.054509;8.306188
X-APPLE-STRUCTURED-LOCATION;VALUE=URI;X-ADDRESS=;X-APPLE-RADIUS=49;X-TITLE=
 :geo:47.054509,8.306188
END:VEVENT
END:VCALENDAR
