BEGIN:VCALENDAR
PRODID:-//eluceo/ical//2.0/EN
VERSION:2.0
CALSCALE:GREGORIAN
BEGIN:VEVENT
UID:6bdecff92f551c28989ca08271fb16d6
DTSTAMP:20260425T161205Z
SUMMARY:Pilzkontrolle der Stadt Luzern  
DESCRIPTION:Auskunft und Durchsicht der mitgebrachten Pilze.\n
DTSTART:20241021T150000Z
DTEND:20241021T163000Z
LOCATION:Kasernenplatz 6\, 6003 Luzern
GEO:47.051624;8.300870
X-APPLE-STRUCTURED-LOCATION;VALUE=URI;X-ADDRESS=Kasernenplatz 6\, 6003 Luze
 rn;X-APPLE-RADIUS=49;X-TITLE=:geo:47.051624,8.300870
END:VEVENT
END:VCALENDAR
