BEGIN:VCALENDAR
PRODID:-//eluceo/ical//2.0/EN
VERSION:2.0
CALSCALE:GREGORIAN
BEGIN:VEVENT
UID:5dec772471babd16783bb4829a2d6049
DTSTAMP:20260423T182419Z
SUMMARY:Neophyteneinsatz am Würzenbach
DESCRIPTION:Im Rahmen dieses Arbeitseinsatzes reissen wir gemeinsam invasiv
 e\nNeophyten aus und schaffen Platz für einheimische Vielfalt.\n
DTSTART:20240814T150000Z
DTEND:20240814T180000Z
LOCATION:
GEO:47.057698;8.353728
X-APPLE-STRUCTURED-LOCATION;VALUE=URI;X-ADDRESS=;X-APPLE-RADIUS=49;X-TITLE=
 :geo:47.057698,8.353728
END:VEVENT
END:VCALENDAR
