BEGIN:VCALENDAR
PRODID:-//eluceo/ical//2.0/EN
VERSION:2.0
CALSCALE:GREGORIAN
BEGIN:VEVENT
UID:1f0090bad77656aab2808ad34713a732
DTSTAMP:20260425T143518Z
SUMMARY:Der Waldrapp
DESCRIPTION:Seit dem 13. Dezember 2023 ist der Waldrapp «Knuckle» in Luze
 rn auf\nder Allmend zu Gast.\n
DTSTART:20240918T170000Z
DTEND:20240918T183000Z
LOCATION:Frohburgstrasse 3\, 6003 Luzern
GEO:47.069071;8.307142
X-APPLE-STRUCTURED-LOCATION;VALUE=URI;X-ADDRESS=Frohburgstrasse 3\, 6003 Lu
 zern;X-APPLE-RADIUS=49;X-TITLE=:geo:47.069071,8.307142
END:VEVENT
END:VCALENDAR
