BEGIN:VCALENDAR
PRODID:-//eluceo/ical//2.0/EN
VERSION:2.0
CALSCALE:GREGORIAN
BEGIN:VEVENT
UID:4a889b15ae899c3c5f18ad6cb83ae7d3
DTSTAMP:20260425T161053Z
SUMMARY:Pilzexkursion
DESCRIPTION:Ins Reich der Pilze mit einem erfahrenen Pilzexperten.\n
DTSTART:20241019T063000Z
DTEND:20241019T103000Z
LOCATION:Zihlmattweg \, 6005 Luzern
GEO:47.031365;8.304101
X-APPLE-STRUCTURED-LOCATION;VALUE=URI;X-ADDRESS=Zihlmattweg \, 6005 Luzern;
 X-APPLE-RADIUS=49;X-TITLE=:geo:47.031365,8.304101
END:VEVENT
END:VCALENDAR
