BEGIN:VCALENDAR
PRODID:-//eluceo/ical//2.0/EN
VERSION:2.0
CALSCALE:GREGORIAN
BEGIN:VEVENT
UID:479bf29b9f08f971050230dceb2c77a6
DTSTAMP:20260425T130101Z
SUMMARY:Gebietspflege am Rotsee
DESCRIPTION:Helfen Sie mit bei der Gebietspflege am Rotsee.\n
DTSTART:20240706T060000Z
DTEND:20240706T100000Z
LOCATION:Seehof \, 6030 Ebikon
GEO:47.069071;8.307142
X-APPLE-STRUCTURED-LOCATION;VALUE=URI;X-ADDRESS=Seehof \, 6030 Ebikon;X-APP
 LE-RADIUS=49;X-TITLE=:geo:47.069071,8.307142
END:VEVENT
END:VCALENDAR
