BEGIN:VCALENDAR
PRODID:-//eluceo/ical//2.0/EN
VERSION:2.0
CALSCALE:GREGORIAN
BEGIN:VEVENT
UID:d8aead9d3db749e99d03ed6802c47a6d
DTSTAMP:20260425T132139Z
SUMMARY:Dokumentarfilm mit Diskussion am Open Air Cinema Luzern: «Duty of 
 Care – The Climate Case»
DESCRIPTION:Dokumentarfilm mit Diskussion am Open Air Cinema Luzern: «Duty
  of\nCare – The Climate Case»\n
DTSTART:20240807T191500Z
DTEND:20240807T211500Z
LOCATION:Alpenquai\, 6005 Luzern
GEO:47.043359;8.323994
X-APPLE-STRUCTURED-LOCATION;VALUE=URI;X-ADDRESS=Alpenquai\, 6005 Luzern;X-A
 PPLE-RADIUS=49;X-TITLE=:geo:47.043359,8.323994
END:VEVENT
END:VCALENDAR
