BEGIN:VCALENDAR
PRODID:-//eluceo/ical//2.0/EN
VERSION:2.0
CALSCALE:GREGORIAN
BEGIN:VEVENT
UID:d3ebb8ab2248bbc4db02be195e1cbe11
DTSTAMP:20260425T143538Z
SUMMARY:Pilzexkursion
DESCRIPTION:Ins Reich der Pilze mit einem erfahrenen Pilzexperten.\n
DTSTART:20240921T063000Z
DTEND:20240921T103000Z
LOCATION:Zihlmattweg \, 6005 Luzern
GEO:47.031365;8.304101
X-APPLE-STRUCTURED-LOCATION;VALUE=URI;X-ADDRESS=Zihlmattweg \, 6005 Luzern;
 X-APPLE-RADIUS=49;X-TITLE=:geo:47.031365,8.304101
END:VEVENT
END:VCALENDAR
