BEGIN:VCALENDAR
PRODID:-//eluceo/ical//2.0/EN
VERSION:2.0
CALSCALE:GREGORIAN
BEGIN:VEVENT
UID:6ae8b949771b0b4937a889583491e195
DTSTAMP:20260424T022114Z
SUMMARY:Nachhaltige Vielfalt von Luzern entdecken
DESCRIPTION:Möchten Sie die Vielfalt an nachhaltigen Angeboten Ihrer Stadt
 \nkennenlernen?\n
DTSTART:20240918T153000Z
DTEND:20240918T171500Z
LOCATION:Löwengraben 12\, 6004 Luzern
GEO:47.052959;8.305327
X-APPLE-STRUCTURED-LOCATION;VALUE=URI;X-ADDRESS=Löwengraben 12\, 6004 Luze
 rn;X-APPLE-RADIUS=49;X-TITLE=:geo:47.052959,8.305327
END:VEVENT
END:VCALENDAR
