BEGIN:VCALENDAR
PRODID:-//eluceo/ical//2.0/EN
VERSION:2.0
CALSCALE:GREGORIAN
BEGIN:VEVENT
UID:d275a02d60b577c0e506558355a608aa
DTSTAMP:20260425T143817Z
SUMMARY:Baustellenführung See-Energie Luzern
DESCRIPTION:Aufgrund der hohen Nachfrage bieten wir die Baustellenführung 
 ein\nweiteres Mal an.\n
DTSTART:20240917T140000Z
DTEND:20240917T160000Z
LOCATION:Industriestrasse 6\, 6005 Luzern
GEO:47.041368;8.313765
X-APPLE-STRUCTURED-LOCATION;VALUE=URI;X-ADDRESS=Industriestrasse 6\, 6005 L
 uzern;X-APPLE-RADIUS=49;X-TITLE=:geo:47.041368,8.313765
END:VEVENT
END:VCALENDAR
