BEGIN:VCALENDAR
PRODID:-//eluceo/ical//2.0/EN
VERSION:2.0
CALSCALE:GREGORIAN
BEGIN:VEVENT
UID:0f609120d56ae16f6460cb3b2fe1de65
DTSTAMP:20260425T143834Z
SUMMARY:Naturstreifzug SchweinErleben für Kinder und Familien
DESCRIPTION:Wusstest du\, dass Schweine sehr gute Schwimmer sind und viel s
 chneller\nKommandos lernen als Hunde? Komm mit uns auf den Naturstreifzug 
 und\nlerne dieses intelligente Tier besser kennen!\n
DTSTART:20240828T120000Z
DTEND:20240828T150000Z
LOCATION:Bahnhofplatz\, 6003 Luzern
GEO:47.050772;8.310218
X-APPLE-STRUCTURED-LOCATION;VALUE=URI;X-ADDRESS=Bahnhofplatz\, 6003 Luzern;
 X-APPLE-RADIUS=49;X-TITLE=:geo:47.050772,8.310218
END:VEVENT
END:VCALENDAR
