BEGIN:VCALENDAR
PRODID:-//eluceo/ical//2.0/EN
VERSION:2.0
CALSCALE:GREGORIAN
BEGIN:VEVENT
UID:4b879833146aab865c19871828123b73
DTSTAMP:20260422T074613Z
SUMMARY:Geheimnisvolle Welt der Quellbewohner
DESCRIPTION:Bei einer Exkursion mit Verena Lubini die Besonderheiten des\nL
 ebensraumes natürlicher Quellen kennenlernen und ihre Bewohner unter\ndie
  Lupe nehmen.\n
DTSTART:20240615T115000Z
DTEND:20240615T140000Z
LOCATION:Lorzentobel\, 6340 Baar
GEO:47.168430;8.561377
X-APPLE-STRUCTURED-LOCATION;VALUE=URI;X-ADDRESS=Lorzentobel\, 6340 Baar;X-A
 PPLE-RADIUS=49;X-TITLE=:geo:47.168430,8.561377
END:VEVENT
END:VCALENDAR
