BEGIN:VCALENDAR
PRODID:-//eluceo/ical//2.0/EN
VERSION:2.0
CALSCALE:GREGORIAN
BEGIN:VEVENT
UID:ee460610f8530438a46441c2191be34d
DTSTAMP:20260425T160941Z
SUMMARY:Giftsammlung Rothenburg für private Haushaltabfälle 
DESCRIPTION:Gefährliche Sonderabfälle müssen fachgerecht entsorgt werden
 .\n
DTSTART:20241026T070000Z
DTEND:20241026T100000Z
LOCATION:Bertiswilstrasse 55\, 6023 Rothenburg
GEO:47.101068;8.265934
X-APPLE-STRUCTURED-LOCATION;VALUE=URI;X-ADDRESS=Bertiswilstrasse 55\, 6023 
 Rothenburg;X-APPLE-RADIUS=49;X-TITLE=:geo:47.101068,8.265934
END:VEVENT
END:VCALENDAR
