BEGIN:VCALENDAR
PRODID:-//eluceo/ical//2.0/EN
VERSION:2.0
CALSCALE:GREGORIAN
BEGIN:VEVENT
UID:048c6c39acc3cc109efb69bb8ac7b218
DTSTAMP:20260425T132318Z
SUMMARY:Abendvortrag: Gletscher vergehen\, Seen entstehen - Hydrologischer 
 Wandel in den Alpen
DESCRIPTION:Der Klimawandel verursacht massive Veränderungen in unserer Um
 welt.\nDas auffälligste Beispiel in der Schweiz sind die abschmelzenden\n
 Gletscher. Weniger bekannt ist\, dass diese bereits heute mehrere\nhundert
  neue Bergseen hinterlassen haben.\n
DTSTART:20240618T173000Z
DTEND:20240618T183000Z
LOCATION:Seestrasse 79\, 6047 Kastanienbaum
END:VEVENT
END:VCALENDAR
