BEGIN:VCALENDAR
PRODID:-//eluceo/ical//2.0/EN
VERSION:2.0
CALSCALE:GREGORIAN
BEGIN:VEVENT
UID:0158f07498ec7dab55be9d01900ad00e
DTSTAMP:20260425T113158Z
SUMMARY:Wie Ziege und Kuh vor Allergien schützen
DESCRIPTION:Der Kulturhof lädt gemeinsam mit Dr. Remo Frei zum Vortrag üb
 er die\nZunahme von Allergien in der westlichen Welt und wie Tiere uns\nsc
 hützen könnten.\n
DTSTART:20240522T170000Z
DTEND:20240522T183000Z
LOCATION:Diebold-Schilling-Strasse 13\, 6004 Luzern
GEO:47.054619;8.302902
X-APPLE-STRUCTURED-LOCATION;VALUE=URI;X-ADDRESS=Diebold-Schilling-Strasse 1
 3\, 6004 Luzern;X-APPLE-RADIUS=49;X-TITLE=:geo:47.054619,8.302902
END:VEVENT
END:VCALENDAR
