BEGIN:VCALENDAR
PRODID:-//eluceo/ical//2.0/EN
VERSION:2.0
CALSCALE:GREGORIAN
BEGIN:VEVENT
UID:5144e715615056a4a47774b421da40ea
DTSTAMP:20260421T193307Z
SUMMARY:10 Jahre Tüftelwerk\, Jubiläumsfest
DESCRIPTION:10 Jahre Tüftelwerk!\nWir feiern unser Jubiläum mit Musik im 
 Klängbus\, einem\nBambus-Objektbau\, Essen von meinRad und einer feurigen
 \nGeburtstagsüberraschung um 16 Uhr. Alle Tüftelfans und Neugierigen\nsi
 nd herzlich willkommen!\n
DTSTART:20240608T120000Z
DTEND:20240608T200000Z
LOCATION:Unterlachenstrasse 5 \, 6005 Luzern
GEO:47.042965;8.313778
X-APPLE-STRUCTURED-LOCATION;VALUE=URI;X-ADDRESS=Unterlachenstrasse 5 \, 600
 5 Luzern;X-APPLE-RADIUS=49;X-TITLE=:geo:47.042965,8.313778
END:VEVENT
END:VCALENDAR
