BEGIN:VCALENDAR
PRODID:-//eluceo/ical//2.0/EN
VERSION:2.0
CALSCALE:GREGORIAN
BEGIN:VEVENT
UID:8837f155b6593c9a270cfb343ec50b33
DTSTAMP:20260425T113532Z
SUMMARY:Eröffnung Ausstellung: Gipfelstürmer und Schlafmützen
DESCRIPTION:Öffentliche Vernissage der Ausstellung im Natur-Museum. Die\nA
 usstellung zeigt anhand von dreissig Tieren und Pflanzen\, wie diese\nober
 halb der Baumgrenze den unwirtlichen Bedingungen trotzen\,\nüberleben und
  welche Tricks sie dazu benutzen.\n
DTSTART:20240607T163000Z
DTEND:20240607T183000Z
LOCATION:Kasernenplatz 6\, 6003 Luzern
GEO:47.051624;8.300870
X-APPLE-STRUCTURED-LOCATION;VALUE=URI;X-ADDRESS=Kasernenplatz 6\, 6003 Luze
 rn;X-APPLE-RADIUS=49;X-TITLE=:geo:47.051624,8.300870
END:VEVENT
END:VCALENDAR
