BEGIN:VCALENDAR
PRODID:-//eluceo/ical//2.0/EN
VERSION:2.0
CALSCALE:GREGORIAN
BEGIN:VEVENT
UID:ef055b608a9069a54d0c6c28e49b590b
DTSTAMP:20260425T132007Z
SUMMARY:Gwunderstunde: Sand
DESCRIPTION:Mit allen Sinnen ein Thema der Natur entdecken\, werken\,\nexpe
 rimentieren und begreifen! Für Kinder ab 5 Jahren.\n
DTSTART:20240619T120000Z
DTEND:20240619T150000Z
LOCATION:Kasernenplatz 6\, 6003 Luzern
GEO:47.051624;8.300870
X-APPLE-STRUCTURED-LOCATION;VALUE=URI;X-ADDRESS=Kasernenplatz 6\, 6003 Luze
 rn;X-APPLE-RADIUS=49;X-TITLE=:geo:47.051624,8.300870
END:VEVENT
END:VCALENDAR
