BEGIN:VCALENDAR
PRODID:-//eluceo/ical//2.0/EN
VERSION:2.0
CALSCALE:GREGORIAN
BEGIN:VEVENT
UID:41a1d0d25873920d37bf8e6a78b091c0
DTSTAMP:20260425T132610Z
SUMMARY:Infotag Wagemoos
DESCRIPTION:Wieso ist das Gebiet des Meggerwaldes so artenreich? Welche Tie
 r- und\nPflanzenarten sind typisch für das Waldgebiet zwischen Luzern und
 \nKüssnacht? Wo befinden sich die Schutzgebiete? Wer pflegt die\nartenrei
 chen Riedwiesen?\n
DTSTART:20240616T070000Z
DTEND:20240616T110000Z
END:VEVENT
END:VCALENDAR
