BEGIN:VCALENDAR
PRODID:-//eluceo/ical//2.0/EN
VERSION:2.0
CALSCALE:GREGORIAN
BEGIN:VEVENT
UID:264fed962fefeaf879a5b3ed047412a9
DTSTAMP:20260424T205723Z
SUMMARY:Neophyteneinsatz in der Rütliweid
DESCRIPTION:Wir nehmen uns vor\, an einem kleinen Hang Einjährige Berufkr
 äuter\nmit einer kleinen Gartenschaufel auszustechen und zu entsorgen. Da
 mit\nschaffen wir Platz für einheimische Pflanzen und helfen mit\, dass\n
 sich das Berufkraut nicht weiter ausbreitet.\n
DTSTART:20240515T150000Z
DTEND:20240515T180000Z
END:VEVENT
END:VCALENDAR
