BEGIN:VCALENDAR
PRODID:-//eluceo/ical//2.0/EN
VERSION:2.0
CALSCALE:GREGORIAN
BEGIN:VEVENT
UID:2d2a6d281be1005dd27f961696d4ba4e
DTSTAMP:20260425T132205Z
SUMMARY:ENERGIE APÉRO SPEZIAL
DESCRIPTION:Es wird aufgezeigt\, was der Bund\, der Kanton\, die Industrie 
 und was\nGemeinden tun\, um Netto-Null zu erreichen. Lösungsansätze und 
 das\ngemeinsame Handeln stehen im Zentrum.\n
DTSTART:20240620T150000Z
DTEND:20240620T163000Z
LOCATION:Horwerstrasse 87\, 6005 Luzern
GEO:47.033916;8.303870
X-APPLE-STRUCTURED-LOCATION;VALUE=URI;X-ADDRESS=Horwerstrasse 87\, 6005 Luz
 ern;X-APPLE-RADIUS=49;X-TITLE=:geo:47.033916,8.303870
END:VEVENT
END:VCALENDAR
