BEGIN:VCALENDAR
PRODID:-//eluceo/ical//2.0/EN
VERSION:2.0
CALSCALE:GREGORIAN
BEGIN:VEVENT
UID:cbc1ee84ad783d88d954b6b76fa81301
DTSTAMP:20260422T023555Z
SUMMARY:Pflegeeinsatz im Unter Schiltwald
DESCRIPTION:Gemeinsam bekämpfen wir Neophyten auf einem Areal mit neu erst
 ellten\nUnkentümpeln und Weihern im Unter Schiltwald in Emmen.\n
DTSTART:20240608T070000Z
DTEND:20240608T093000Z
LOCATION:Waltwil\, 6032 Emmen
GEO:47.102110;8.330279
X-APPLE-STRUCTURED-LOCATION;VALUE=URI;X-ADDRESS=Waltwil\, 6032 Emmen;X-APPL
 E-RADIUS=49;X-TITLE=:geo:47.102110,8.330279
END:VEVENT
END:VCALENDAR
