BEGIN:VCALENDAR
PRODID:-//eluceo/ical//2.0/EN
VERSION:2.0
CALSCALE:GREGORIAN
BEGIN:VEVENT
UID:11268155557c37a843eb895dd05c2521
DTSTAMP:20260425T131930Z
SUMMARY:Kurs Makrofotografie
DESCRIPTION:Entdecke die Welt mit anderen Augen und erfahre von Nadja Baumg
 artner\nauf was es ankommt\, um tolle Makroaufnahmen von Insekten zu erste
 llen.\n
DTSTART:20240630T120000Z
DTEND:20240630T143000Z
LOCATION:Burgrain 24\, 6248 Alberswil
GEO:47.143399;7.995389
X-APPLE-STRUCTURED-LOCATION;VALUE=URI;X-ADDRESS=Burgrain 24\, 6248 Alberswi
 l;X-APPLE-RADIUS=49;X-TITLE=:geo:47.143399,7.995389
END:VEVENT
END:VCALENDAR
