BEGIN:VCALENDAR
PRODID:-//eluceo/ical//2.0/EN
VERSION:2.0
CALSCALE:GREGORIAN
BEGIN:VEVENT
UID:d685bb32ec0761b2de65ab892ee859e8
DTSTAMP:20260425T102117Z
SUMMARY:Dokumentarfilm VON KINDERN UND BÄUMEN
DESCRIPTION:30 Kinder vom Kindergarten bis zur 2. Klasse verbringen hier Ta
 g für\nTag\, bei Sonnenschein\, Regen und Schnee. Sie erkunden auf eigene
  Faust\nden Wald\, erleben den Kreislauf der Natur und suchen ihre Rolle i
 n der\nGemeinschaft.\n
DTSTART:20240423T135000Z
DTEND:20240423T152000Z
END:VEVENT
END:VCALENDAR
