BEGIN:VCALENDAR
PRODID:-//eluceo/ical//2.0/EN
VERSION:2.0
CALSCALE:GREGORIAN
BEGIN:VEVENT
UID:6afaa1857caa4899310f39bbdd1343bf
DTSTAMP:20260424T023759Z
SUMMARY:Dokumentarfilm VON KINDERN UND BÄUMEN
DESCRIPTION:30 Kinder vom Kindergarten bis zur 2. Klasse verbringen hier Ta
 g für\nTag\, bei Sonnenschein\, Regen und Schnee. Sie erkunden auf eigene
  Faust\nden Wald\, erleben den Kreislauf der Natur und suchen ihre Rolle i
 n der\nGemeinschaft.\n
DTSTART:20240422T135000Z
DTEND:20240422T152000Z
END:VEVENT
END:VCALENDAR
