BEGIN:VCALENDAR
PRODID:-//eluceo/ical//2.0/EN
VERSION:2.0
CALSCALE:GREGORIAN
BEGIN:VEVENT
UID:887f5bb5a509e09e801ca74264b9c9ae
DTSTAMP:20260425T102516Z
SUMMARY:Dokumentarfilm VON KINDERN UND BÄUMEN
DESCRIPTION:30 Kinder vom Kindergarten bis zur 2. Klasse verbringen hier Ta
 g für\nTag\, bei Sonnenschein\, Regen und Schnee. Sie erkunden auf eigene
  Faust\nden Wald\, erleben den Kreislauf der Natur und suchen ihre Rolle i
 n der\nGemeinschaft.\n
DTSTART:20240417T162000Z
DTEND:20240417T180000Z
END:VEVENT
END:VCALENDAR
