BEGIN:VCALENDAR
PRODID:-//eluceo/ical//2.0/EN
VERSION:2.0
CALSCALE:GREGORIAN
BEGIN:VEVENT
UID:a337f60e29604073c970c57c56d8c7cd
DTSTAMP:20260425T113439Z
SUMMARY:Naturnaher Garten - was kann ich rund ums Haus für die Artenvielfa
 lt tun?
DESCRIPTION:Rund ums Haus kann die Biodiversität mit vielen Massnahmen gef
 ördert\nwerden. Am kostenlosen Vortrag gibt es Praxistipps\, die überall
 \numgesetzt werden können - egal wie klein oder gross der Garten oder\ndi
 e Terrasse ist.\n
DTSTART:20240508T173000Z
DTEND:20240508T184500Z
LOCATION:St. Urban-Strasse 8\, 6210 Sursee
GEO:47.174028;8.108190
X-APPLE-STRUCTURED-LOCATION;VALUE=URI;X-ADDRESS=St. Urban-Strasse 8\, 6210 
 Sursee;X-APPLE-RADIUS=49;X-TITLE=:geo:47.174028,8.108190
END:VEVENT
END:VCALENDAR
