BEGIN:VCALENDAR
PRODID:-//eluceo/ical//2.0/EN
VERSION:2.0
CALSCALE:GREGORIAN
BEGIN:VEVENT
UID:61cc25fa267cebb5c00ef6e027a56b1f
DTSTAMP:20260425T102117Z
SUMMARY:Dokumentarfilm VON KINDERN UND BÄUMEN
DESCRIPTION:30 Kinder vom Kindergarten bis zur 2. Klasse verbringen hier Ta
 g für\nTag\, bei Sonnenschein\, Regen und Schnee. Sie erkunden auf eigene
  Faust\nden Wald\, erleben den Kreislauf der Natur und suchen ihre Rolle i
 n der\nGemeinschaft.\n
DTSTART:20240414T162000Z
DTEND:20240414T180000Z
END:VEVENT
END:VCALENDAR
