BEGIN:VCALENDAR
PRODID:-//eluceo/ical//2.0/EN
VERSION:2.0
CALSCALE:GREGORIAN
BEGIN:VEVENT
UID:c0da78321663eec994976dcb32ee9393
DTSTAMP:20260424T182045Z
SUMMARY:Naturstreifzug Wolfsschlucht
DESCRIPTION:Zoologisch-biologischer Abendspaziergang\n
DTSTART:20240514T154500Z
DTEND:20240514T174500Z
LOCATION:Kasernenplatz 6\, 6003 Luzern
GEO:47.051624;8.300870
X-APPLE-STRUCTURED-LOCATION;VALUE=URI;X-ADDRESS=Kasernenplatz 6\, 6003 Luze
 rn;X-APPLE-RADIUS=49;X-TITLE=:geo:47.051624,8.300870
END:VEVENT
END:VCALENDAR
