BEGIN:VCALENDAR
PRODID:-//eluceo/ical//2.0/EN
VERSION:2.0
CALSCALE:GREGORIAN
BEGIN:VEVENT
UID:06f9fa2ec319ae924fcd9d80649b61bb
DTSTAMP:20260425T113623Z
SUMMARY:Vom Acker auf den Teller - Biodiversität im Einkaufskorb
DESCRIPTION:Vortrag zum Thema Biodiversität mit Vogelwarte-Experte Simon B
 irrer.\n
DTSTART:20240522T170000Z
DTEND:20240522T180000Z
LOCATION:Luzernerstrasse 6\, 6204 Sempach
GEO:47.127696;8.192686
X-APPLE-STRUCTURED-LOCATION;VALUE=URI;X-ADDRESS=Luzernerstrasse 6\, 6204 Se
 mpach;X-APPLE-RADIUS=49;X-TITLE=:geo:47.127696,8.192686
END:VEVENT
END:VCALENDAR
