BEGIN:VCALENDAR
PRODID:-//eluceo/ical//2.0/EN
VERSION:2.0
CALSCALE:GREGORIAN
BEGIN:VEVENT
UID:666535e5a6e64ad7154067dbb0150eda
DTSTAMP:20260425T143846Z
SUMMARY:Velobörse Pro Velo Luzern
DESCRIPTION:Am Samstag\, 07. September 2024 findet die Velobörse am Nation
 alquai\nin Luzern statt. Nicht mehr benötigte Velos\, Kindervelos oder\nA
 nhänger können von 8.30 bis 11.30 abgegeben werden. Pro Person\ndürfen 
 maximal 3 Velos zum Verkauf angeboten werden.\n
DTSTART:20240907T110000Z
DTEND:20240907T140000Z
LOCATION:
GEO:47.050168;8.309307
X-APPLE-STRUCTURED-LOCATION;VALUE=URI;X-ADDRESS=;X-APPLE-RADIUS=49;X-TITLE=
 :geo:47.050168,8.309307
END:VEVENT
END:VCALENDAR
