BEGIN:VCALENDAR
PRODID:-//eluceo/ical//2.0/EN
VERSION:2.0
CALSCALE:GREGORIAN
BEGIN:VEVENT
UID:42d9f3955422d87143bc8ed9d99710bb
DTSTAMP:20260425T040055Z
SUMMARY:Sagenhafter Alpenraum
DESCRIPTION:Wer sie hört\, bekommt Gänsehaut.\n
DTSTART:20230526T080000Z
DTEND:20240414T150000Z
LOCATION:Kasernenplatz 6\, 6003 Luzern
END:VEVENT
END:VCALENDAR
