BEGIN:VCALENDAR
PRODID:-//eluceo/ical//2.0/EN
VERSION:2.0
CALSCALE:GREGORIAN
BEGIN:VEVENT
UID:4e24264c5b2f51db1555dfd0ccfeddc3
DTSTAMP:20260425T101854Z
SUMMARY:Abendvortrag: Superkeime in unseren Gewässern?
DESCRIPTION:Spannender Einblick in 15 Jahre Forschung zum Thema\nAntibiotik
 aresistenz in der Umwelt\n
DTSTART:20240423T173000Z
DTEND:20240423T183000Z
LOCATION:Seestrasse 79\, 6047 Kastanienbaum
GEO:47.002538;8.333092
X-APPLE-STRUCTURED-LOCATION;VALUE=URI;X-ADDRESS=Seestrasse 79\, 6047 Kastan
 ienbaum;X-APPLE-RADIUS=49;X-TITLE=:geo:47.002538,8.333092
END:VEVENT
END:VCALENDAR
