BEGIN:VCALENDAR
PRODID:-//eluceo/ical//2.0/EN
VERSION:2.0
CALSCALE:GREGORIAN
BEGIN:VEVENT
UID:b0903b9e8e05c6e0cd64ab3762802aa2
DTSTAMP:20260425T102158Z
SUMMARY:Berufkraut jäten am Sädelbord
DESCRIPTION:Hilf mit um am Sädelbord Berufkraut zu entfernen! Es kann wert
 volle\nMagerwiesenpflanzen verdrängen und schadet so der Biodiversität.\
 nBerufkraut muss vor der Blüte entfernt werden damit es sich nicht\nweite
 rverbreitet.\n
DTSTART:20240422T070000Z
DTEND:20240422T140000Z
LOCATION:Unterer Seehof\, 6030 Ebikon
GEO:47.072929;8.314309
X-APPLE-STRUCTURED-LOCATION;VALUE=URI;X-ADDRESS=Unterer Seehof\, 6030 Ebiko
 n;X-APPLE-RADIUS=49;X-TITLE=:geo:47.072929,8.314309
END:VEVENT
END:VCALENDAR
