BEGIN:VCALENDAR
PRODID:-//eluceo/ical//2.0/EN
VERSION:2.0
CALSCALE:GREGORIAN
BEGIN:VEVENT
UID:195c389552c21f2d763f57204d33ebf3
DTSTAMP:20260424T024456Z
SUMMARY:Lichtverschmutzung
DESCRIPTION:Lichtverschmutzung ist nicht zu unterschätzen. Diese Veranstal
 tung\nbietet Ihnen Gelegenheit\, sich über dieses wichtige Thema zu\ninfo
 rmieren und sich aktiv für den Schutz unserer nächtlichen Umwelt\neinzus
 etzen.\n
DTSTART:20241114T183000Z
DTEND:20241114T203000Z
LOCATION:Rüeggisingerstrasse 24\, 6020 Emmenbrücke
END:VEVENT
END:VCALENDAR
