BEGIN:VCALENDAR
PRODID:-//eluceo/ical//2.0/EN
VERSION:2.0
CALSCALE:GREGORIAN
BEGIN:VEVENT
UID:8c7ae9d8436307fed19a2ba00ddb3d3e
DTSTAMP:20260425T113439Z
SUMMARY:Vögel beobachten\, ja! Aber wie? 
DESCRIPTION:Anleitung von ExpertInnen\n
DTSTART:20240520T081500Z
DTEND:20240520T084500Z
LOCATION:Luzernerstrasse 6\, 6204 Sempach
END:VEVENT
END:VCALENDAR
