BEGIN:VCALENDAR
PRODID:-//eluceo/ical//2.0/EN
VERSION:2.0
CALSCALE:GREGORIAN
BEGIN:VEVENT
UID:3b3ac66b647de944f9924873bd586517
DTSTAMP:20260425T080500Z
SUMMARY:Vögel beobachten\, ja! Aber wie? 
DESCRIPTION:Anleitung von ExpertInnen\n
DTSTART:20240721T081500Z
DTEND:20240721T084500Z
LOCATION:Luzernerstrasse 6\, 6204 Sempach
END:VEVENT
END:VCALENDAR
