BEGIN:VCALENDAR
PRODID:-//eluceo/ical//2.0/EN
VERSION:2.0
CALSCALE:GREGORIAN
BEGIN:VEVENT
UID:aa882b504a99f1cf852f39a9dcbbb5e5
DTSTAMP:20260425T132339Z
SUMMARY:Vögel beobachten\, ja! Aber wie? 
DESCRIPTION:Anleitung von ExpertInnen\n
DTSTART:20240623T081500Z
DTEND:20240623T084500Z
LOCATION:Luzernerstrasse 6\, 6204 Sempach
END:VEVENT
END:VCALENDAR
