BEGIN:VCALENDAR
PRODID:-//eluceo/ical//2.0/EN
VERSION:2.0
CALSCALE:GREGORIAN
BEGIN:VEVENT
UID:025464bc6d7f629f2aa83202f0723e40
DTSTAMP:20260425T143538Z
SUMMARY:Pflanzen im und am Wasser
DESCRIPTION:ein botanischer Streifzug auf der Allmend bei Luzern\n
DTSTART:20240907T113000Z
DTEND:20240907T143000Z
LOCATION:
GEO:47.031210;8.303734
X-APPLE-STRUCTURED-LOCATION;VALUE=URI;X-ADDRESS=;X-APPLE-RADIUS=49;X-TITLE=
 :geo:47.031210,8.303734
END:VEVENT
END:VCALENDAR
