BEGIN:VCALENDAR
PRODID:-//eluceo/ical//2.0/EN
VERSION:2.0
CALSCALE:GREGORIAN
BEGIN:VEVENT
UID:c83775c51f60855bd0af280b82c13f75
DTSTAMP:20260424T024912Z
SUMMARY:Stunde der Gartenvögel\, Horw
DESCRIPTION:Eine Kampagne von Birdlife zum Kennenlernen und Erfassen unsere
 r\nVögel\, durchgeführt von der Sektion "Natur- und Vogelschutzverein\nH
 orw"\n
DTSTART:20240511T060000Z
DTEND:20240511T070000Z
LOCATION:
GEO:47.018562;8.309997
X-APPLE-STRUCTURED-LOCATION;VALUE=URI;X-ADDRESS=;X-APPLE-RADIUS=49;X-TITLE=
 :geo:47.018562,8.309997
END:VEVENT
END:VCALENDAR
