BEGIN:VCALENDAR
PRODID:-//eluceo/ical//2.0/EN
VERSION:2.0
CALSCALE:GREGORIAN
BEGIN:VEVENT
UID:9228cee6be8768bf67493776339c7e28
DTSTAMP:20260425T113056Z
SUMMARY:Stunde der Gartenvögel\, Horw
DESCRIPTION:Eine Kampagne von Birdlife zum Kennenlernen und Erfassen unsere
 r\nVögel\, durchgeführt von der Sektion "Natur- und Vogelschutzverein\nH
 orw"\n
DTSTART:20240508T150000Z
DTEND:20240508T160000Z
LOCATION:
GEO:47.018562;8.309997
X-APPLE-STRUCTURED-LOCATION;VALUE=URI;X-ADDRESS=;X-APPLE-RADIUS=49;X-TITLE=
 :geo:47.018562,8.309997
END:VEVENT
END:VCALENDAR
