BEGIN:VCALENDAR
PRODID:-//eluceo/ical//2.0/EN
VERSION:2.0
CALSCALE:GREGORIAN
BEGIN:VEVENT
UID:b2c22486dcf4446010bca9edf83bf88c
DTSTAMP:20260425T161344Z
SUMMARY:Pflegeeinsatz auf der «Naturreich-Fläche» Dorfzentrum Horw
DTSTART:20241026T110000Z
DTEND:20241026T143000Z
LOCATION:
GEO:47.019631;8.310298
X-APPLE-STRUCTURED-LOCATION;VALUE=URI;X-ADDRESS=;X-APPLE-RADIUS=49;X-TITLE=
 :geo:47.019631,8.310298
END:VEVENT
END:VCALENDAR
