BEGIN:VCALENDAR
PRODID:-//eluceo/ical//2.0/EN
VERSION:2.0
CALSCALE:GREGORIAN
BEGIN:VEVENT
UID:a97be2d7674dad1f31595920a507cc29
DTSTAMP:20260425T113020Z
SUMMARY:Pflegeeinsatz auf der «Naturreich-Fläche» Dorfzentrum Horw
DTSTART:20240525T110000Z
DTEND:20240525T143000Z
LOCATION:
GEO:47.019631;8.310298
X-APPLE-STRUCTURED-LOCATION;VALUE=URI;X-ADDRESS=;X-APPLE-RADIUS=49;X-TITLE=
 :geo:47.019631,8.310298
END:VEVENT
END:VCALENDAR
