BEGIN:VCALENDAR
PRODID:-//eluceo/ical//2.0/EN
VERSION:2.0
CALSCALE:GREGORIAN
BEGIN:VEVENT
UID:a372106a54da5c021a12c5996554fe6f
DTSTAMP:20260425T102158Z
SUMMARY:Pflegeeinsatz auf der «Naturreich-Fläche» Dorfzentrum Horw
DTSTART:20240427T110000Z
DTEND:20240427T143000Z
LOCATION:
GEO:47.019631;8.310298
X-APPLE-STRUCTURED-LOCATION;VALUE=URI;X-ADDRESS=;X-APPLE-RADIUS=49;X-TITLE=
 :geo:47.019631,8.310298
END:VEVENT
END:VCALENDAR
