BEGIN:VCALENDAR
PRODID:-//eluceo/ical//2.0/EN
VERSION:2.0
CALSCALE:GREGORIAN
BEGIN:VEVENT
UID:5f2ef831f894053f6fb928e4b45ad69a
DTSTAMP:20260425T143817Z
SUMMARY:Arbeitseinsatz Ronfeld
DESCRIPTION:Wir bereiten das Naturschutzgebiet Ronfeld für den Winter vor.
 \n
DTSTART:20240921T063000Z
DTEND:20240921T100000Z
LOCATION:
GEO:47.175712;8.279593
X-APPLE-STRUCTURED-LOCATION;VALUE=URI;X-ADDRESS=;X-APPLE-RADIUS=49;X-TITLE=
 :geo:47.175712,8.279593
END:VEVENT
END:VCALENDAR
