BEGIN:VCALENDAR
PRODID:-//eluceo/ical//2.0/EN
VERSION:2.0
CALSCALE:GREGORIAN
BEGIN:VEVENT
UID:61edeabb590f88a13ddb90fc3d02e995
DTSTAMP:20260425T002009Z
SUMMARY:Der Iltis - Tier des Jahres 2024
DESCRIPTION:Warum hat Pro Natura den Iltis zum Tier des Jahres 2024 gewähl
 t?\n
DTSTART:20240418T163000Z
DTEND:20240418T171500Z
LOCATION:St. Leodegarstrasse 6\, 6006 Luzern
GEO:47.055274;8.313215
X-APPLE-STRUCTURED-LOCATION;VALUE=URI;X-ADDRESS=St. Leodegarstrasse 6\, 600
 6 Luzern;X-APPLE-RADIUS=49;X-TITLE=:geo:47.055274,8.313215
END:VEVENT
END:VCALENDAR
